BEGIN:VCALENDAR
PRODID:-//Events Calendar//iCal4j 1.0//EN
CALSCALE:GREGORIAN
BEGIN:VEVENT
DTSTAMP:20260420T184129Z
DTSTART:20260510T130000
DTEND:20260510T170000
SUMMARY:Moederdagactie
TZID:Europe/Brussels
UID:20260420T184129Z-uidGen@fe80:0:0:0:b83f:f7ff:fe5f:1b7d%eth0
DESCRIPTION:Trakteer je moeder vandaag op een museumbezoek. De entree krijgt ze van ons.\nVrije entree voor alle moeders en een kopje koffie of thee na afloop.
LOCATION:Museum Jan Heestershuis
END:VEVENT
END:VCALENDAR
